BEGIN:VCALENDAR
VERSION:2.0
PRODID:-//The Sumaira Foundation - ECPv6.15.17.1//NONSGML v1.0//EN
CALSCALE:GREGORIAN
METHOD:PUBLISH
X-ORIGINAL-URL:https://www.sumairafoundation.org
X-WR-CALDESC:Events for The Sumaira Foundation
REFRESH-INTERVAL;VALUE=DURATION:PT1H
X-Robots-Tag:noindex
X-PUBLISHED-TTL:PT1H
BEGIN:VTIMEZONE
TZID:America/New_York
BEGIN:DAYLIGHT
TZOFFSETFROM:-0500
TZOFFSETTO:-0400
TZNAME:EDT
DTSTART:20220313T070000
END:DAYLIGHT
BEGIN:STANDARD
TZOFFSETFROM:-0400
TZOFFSETTO:-0500
TZNAME:EST
DTSTART:20221106T060000
END:STANDARD
BEGIN:DAYLIGHT
TZOFFSETFROM:-0500
TZOFFSETTO:-0400
TZNAME:EDT
DTSTART:20230312T070000
END:DAYLIGHT
BEGIN:STANDARD
TZOFFSETFROM:-0400
TZOFFSETTO:-0500
TZNAME:EST
DTSTART:20231105T060000
END:STANDARD
BEGIN:DAYLIGHT
TZOFFSETFROM:-0500
TZOFFSETTO:-0400
TZNAME:EDT
DTSTART:20240310T070000
END:DAYLIGHT
BEGIN:STANDARD
TZOFFSETFROM:-0400
TZOFFSETTO:-0500
TZNAME:EST
DTSTART:20241103T060000
END:STANDARD
END:VTIMEZONE
BEGIN:VTIMEZONE
TZID:Europe/Brussels
BEGIN:DAYLIGHT
TZOFFSETFROM:+0100
TZOFFSETTO:+0200
TZNAME:CEST
DTSTART:20220327T010000
END:DAYLIGHT
BEGIN:STANDARD
TZOFFSETFROM:+0200
TZOFFSETTO:+0100
TZNAME:CET
DTSTART:20221030T010000
END:STANDARD
BEGIN:DAYLIGHT
TZOFFSETFROM:+0100
TZOFFSETTO:+0200
TZNAME:CEST
DTSTART:20230326T010000
END:DAYLIGHT
BEGIN:STANDARD
TZOFFSETFROM:+0200
TZOFFSETTO:+0100
TZNAME:CET
DTSTART:20231029T010000
END:STANDARD
BEGIN:DAYLIGHT
TZOFFSETFROM:+0100
TZOFFSETTO:+0200
TZNAME:CEST
DTSTART:20240331T010000
END:DAYLIGHT
BEGIN:STANDARD
TZOFFSETFROM:+0200
TZOFFSETTO:+0100
TZNAME:CET
DTSTART:20241027T010000
END:STANDARD
END:VTIMEZONE
BEGIN:VEVENT
DTSTART;TZID=America/New_York:20230228T080000
DTEND;TZID=America/New_York:20230228T170000
DTSTAMP:20260425T105238
CREATED:20230221T214410Z
LAST-MODIFIED:20230221T214410Z
UID:13001-1677571200-1677603600@www.sumairafoundation.org
SUMMARY:Rare Disease Day at NIH 2023
DESCRIPTION:Rare Disease Day®(link is external) takes place worldwide\, typically on or near the last day of February each year\, to raise awareness among policymakers and the public about rare diseases and their impact on patients’ lives. Since 2011\, NCATS and the NIH Clinical Center have sponsored Rare Disease Day at NIH as part of this global observance. Rare Disease Day at NIH aims to raise awareness about rare diseases\, the people they affect\, and NIH collaborations that address scientific challenges and advance research for new treatments. \nThe goals of Rare Disease Day at NIH are to: \n\nDemonstrate the NIH commitment to helping people with rare diseases through research.\nHighlight NIH-supported rare diseases research and the development of diagnostics and treatments.\nInitiate a mutually beneficial dialogue among the rare diseases community.\nExchange the latest rare diseases information with stakeholders to advance research and therapeutic efforts.\nShine a spotlight on stories told by people living with a rare disease\, their families and their communities.\nBring together a broad audience including patients\, patient advocates\, caregivers\, health care providers\, researchers\, trainees\, students\, industry representatives and government staff.\n\nEvent Details \nRare Disease Day at NIH will be held in person at NIH Main Campus (Natcher Conference Center) on Tuesday\, Feb. 28\, 2023\, from 9 a.m. to 5 p.m. EST. There also will be a virtual livestream via NIH VideoCast with the event archived for replay afterward. The event agenda features panel discussions\, rare diseases stories\, exhibitors and scientific posters. The event is free and open to the public. \nPartners in Planning \nPlanning committee members includes representatives from the following organizations: \n\nNCATS\nNIH Clinical Center\nNational Cancer Institute\nNational Heart\, Lung\, and Blood Institute\nNational Institute on Alcohol Abuse and Alcoholism\nNational Institute of Neurological Disorders and Stroke\nRare Diseases Clinical Research Network’s Coalition of Patient Advocacy Groups\nU.S. Food and Drug Administration (FDA)\nThe Children’s Inn at NIH\nEveryLife Foundation for Rare Diseases\nNational Organization for Rare Disorders\nUnited BioSource LLC\n\nNCATS and Rare Diseases Research \nProgress in data science and an increased understanding of disease genetics lead experts to agree that more than an estimated 10\,000 rare diseases are affecting about 30 million people in the United States. Most of these people are children. In all\, nearly 10% of the U.S. population have a rare disease. Rare diseases often are difficult to diagnose — it can take years. Even after an accurate diagnosis\, treatment often is not available because fewer than 500 rare diseases have FDA-approved treatments. Research led by NCATS suggests that nationwide medical costs for individuals with rare diseases are likely as high as those faced by people with common diseases\, such as cancer and heart failure. \nNCATS is committed to using research to address the public health crisis presented by rare diseases. NCATS’ Division of Rare Diseases Research Innovation (DRDRI) facilitates and coordinates NIH-wide research activities\, which have the potential to speed development of treatments for multiple rare diseases and ultimately help more patients more quickly. Learn more about DRDRI and NCATS’ rare diseases research programs and access shareable resources to help raise awareness about rare diseases.
URL:https://www.sumairafoundation.org/event/rare-disease-day-at-nih-2023/
LOCATION:Virtual: United States\, United States
ATTACH;FMTTYPE=image/jpeg:https://www.sumairafoundation.org/wp-content/uploads/2023/02/RDD_2023_Collage_3333x1000_P31-scaled.jpg
END:VEVENT
BEGIN:VEVENT
DTSTART;TZID=America/New_York:20230228T083000
DTEND;TZID=America/New_York:20230228T110000
DTSTAMP:20260425T105238
CREATED:20230221T185820Z
LAST-MODIFIED:20230221T185820Z
UID:12976-1677573000-1677582000@www.sumairafoundation.org
SUMMARY:2023 Ohio Rare Disease Day Event - Cleveland
DESCRIPTION:The Ohio Rare Action Network invites you to join us for\nRare Disease Day in Cleveland\nTuesday\, February 28\, 2023 at 8:30 AM\nCase Western Reserve University\, Tinkham Veale Ballroom\, 11038 Bellflower Road\, Cleveland\, OH 44106 \nYou’re invited to join patients\, caregivers\, and other rare disease advocates as we raise awareness and celebrate the rare disease community! The Ohio Rare Action Network and the Connor B. Judge Foundation will be hosting Ohio Rare Disease Day 2023 in Cleveland on Tuesday\, February 28th. Along with NORD\, The Connor B. Judge Foundation and The Sumaira Foundation\, this year’s event is also hosted and sponsored by the Research Institute for Children’s Health. \nThe event will include networking\, followed by an informational program. The program will include a series of short presentations\, which will address the challenges surrounding the diagnosis and treatment of rare diseases and lack of approved treatment options. The program will also feature the patient perspective and highlight advocacy and legislative efforts.
URL:https://www.sumairafoundation.org/event/2023-ohio-rare-disease-day-event-cleveland/
LOCATION:Case Western Reserve University\, Tinkham Veale Ballroom\, 11038 Bellflower Road\, Cleaveland\, OH\, 44106\, United States
CATEGORIES:Partner Events
ATTACH;FMTTYPE=image/jpeg:https://www.sumairafoundation.org/wp-content/uploads/2023/02/RDD_Social-Media-Assets_FB-scaled.jpg
END:VEVENT
BEGIN:VEVENT
DTSTART;TZID=Europe/Brussels:20230228T100000
DTEND;TZID=Europe/Brussels:20230228T180000
DTSTAMP:20260425T105238
CREATED:20230221T210818Z
LAST-MODIFIED:20230222T204539Z
UID:12985-1677578400-1677607200@www.sumairafoundation.org
SUMMARY:MEET YOUR EXPERTS – Triff deine Experten!
DESCRIPTION:MEET YOUR EXPERTS –\nTriff deine Experten!\nZum Tag der seltenen Erkrankungen 2023\nlädt NEMOS ein zum offenen Gespräch\nWann: 28. Februar 2023\nDurchgängig zwischen\n10 und 18 Uhr\nWie: Einfach vorbeischauen!\nOnline (via Zoom) ohne Anmeldung über folgenden Link: https://bit.ly/meet-NEMOS-experts\n@Was?\nMit Expertinnen und Experten ins Gespräch kommen\,\nFragen stellen\, Gelegenheit zum offenen Austausch\,\nInfo-Schnipsel kurz nach jeder vollen StundeFür alle Betroffenen und Interessierten\nrund um die Themen NMOSD und MOGADWeitere Infos unter www.nemos-net.de\nFür Rückfragen: PatientInnen@nemos-net.de
URL:https://www.sumairafoundation.org/event/meet-your-experts-triff-deine-experten/
LOCATION:Virtual: Germany\, Germany
CATEGORIES:Partner Events
ATTACH;FMTTYPE=image/png:https://www.sumairafoundation.org/wp-content/uploads/2023/02/Untitled-Facebook-Cover.png
END:VEVENT
END:VCALENDAR