BEGIN:VCALENDAR
VERSION:2.0
PRODID:-//The Sumaira Foundation - ECPv6.15.17.1//NONSGML v1.0//EN
CALSCALE:GREGORIAN
METHOD:PUBLISH
X-WR-CALNAME:The Sumaira Foundation
X-ORIGINAL-URL:https://www.sumairafoundation.org
X-WR-CALDESC:Events for The Sumaira Foundation
REFRESH-INTERVAL;VALUE=DURATION:PT1H
X-Robots-Tag:noindex
X-PUBLISHED-TTL:PT1H
BEGIN:VTIMEZONE
TZID:America/New_York
BEGIN:DAYLIGHT
TZOFFSETFROM:-0500
TZOFFSETTO:-0400
TZNAME:EDT
DTSTART:20220313T070000
END:DAYLIGHT
BEGIN:STANDARD
TZOFFSETFROM:-0400
TZOFFSETTO:-0500
TZNAME:EST
DTSTART:20221106T060000
END:STANDARD
BEGIN:DAYLIGHT
TZOFFSETFROM:-0500
TZOFFSETTO:-0400
TZNAME:EDT
DTSTART:20230312T070000
END:DAYLIGHT
BEGIN:STANDARD
TZOFFSETFROM:-0400
TZOFFSETTO:-0500
TZNAME:EST
DTSTART:20231105T060000
END:STANDARD
BEGIN:DAYLIGHT
TZOFFSETFROM:-0500
TZOFFSETTO:-0400
TZNAME:EDT
DTSTART:20240310T070000
END:DAYLIGHT
BEGIN:STANDARD
TZOFFSETFROM:-0400
TZOFFSETTO:-0500
TZNAME:EST
DTSTART:20241103T060000
END:STANDARD
END:VTIMEZONE
BEGIN:VEVENT
DTSTART;TZID=America/New_York:20230427T160000
DTEND;TZID=America/New_York:20230427T170000
DTSTAMP:20260424T203905
CREATED:20230411T200034Z
LAST-MODIFIED:20230411T204403Z
UID:13541-1682611200-1682614800@www.sumairafoundation.org
SUMMARY:NMOSD y MOGAD\, Perlas en el Diagnóstico y Opciones para el Tratamiento
DESCRIPTION:Está invitado a asistir a la videoconferencia “NMOSD y MOGAD\, Perlas en el Diagnóstico y Opciones para el Tratamiento” el viernes 27 de abril a las 2:00 pm México / 4:00 pm Venezuela / 5:00 pm Argentina. Médicos especialistas de 3 diferentes países de Latinoamérica unen esfuerzos para abordar temas de interés común para todos. \n“Perlas en el Diagnóstico Diferencial (EM\, NMOSD\, MOGAD)”\, Dr. Edgar Carnero Contentti. \n“Tratamiento con Eculizumab\, Satralizumab\, Inebilizumab en NMO”\, Dra. Sarah Vargas. \n“Impactos Socioeconómicos de la Enfermedad y Acceso Entre Fronteras”\, Dr. José Flores Rivera. \nLos asistentes conectados a la videoconferencia tendrán la oportunidad de hacer preguntas a los tres doctores en tiempo real. Esta conferencia web se grabará y estará disponible para su reproducción\, tanto en la biblioteca multimedia\, como en el canal de YouTube de The Sumaira Foundation. \nEste evento educativo es posible gracias a una subvención para la educación del paciente de Horizon Therapeutics.
URL:https://www.sumairafoundation.org/event/nmosd-y-mogad-perlas-en-el-diagnostico-y-opciones-para-el-tratamiento/
LOCATION:Virtual: Global
CATEGORIES:From The Experts,TSF Programming
ATTACH;FMTTYPE=image/png:https://www.sumairafoundation.org/wp-content/uploads/2023/04/JFloresEContenttiSVargas.png
END:VEVENT
BEGIN:VEVENT
DTSTART;TZID=America/New_York:20230427T200000
DTEND;TZID=America/New_York:20230427T210000
DTSTAMP:20260424T203905
CREATED:20230116T194724Z
LAST-MODIFIED:20230207T172832Z
UID:12468-1682625600-1682629200@www.sumairafoundation.org
SUMMARY:TSF's Human Collective Project Meetings
DESCRIPTION:The Human Collective Project (HCP) is TSF’s support group meeting offered to anyone who has been affected/impacted by NMOSD/MOGAD. The program came into existence during the height of the COVID-19 pandemic in 2020\, when most NMOSD/MOGAD felt particularly isolated and vulnerable to the coronavirus as immunosuppressed/immunocompromised members of society. The isolation many of us experienced unveiled a great need and opportunity for us to connect in a meaningful way to offer our support to one another. \nSince 2020\, we have expanded the program to offer more sessions in multiple geographies to ensure that everyone in the NMOSD/MOGAD communities feels welcomed and included. As we always say\, HCP is a great way to meet others in similar circumstances in this rare community; it is a safe space to laugh\, cry\, vent\, share wins\, etc. This program is driven and led by TSF Patient and Caregiver Ambassadors worldwide.
URL:https://www.sumairafoundation.org/event/tsfs-human-collective-project-meetings-9/
LOCATION:Virtual: United States\, United States
CATEGORIES:Support Group,TSF Programming
ATTACH;FMTTYPE=image/png:https://www.sumairafoundation.org/wp-content/uploads/2022/04/Human-Collective-Project-Web-Banner.png
END:VEVENT
END:VCALENDAR