BEGIN:VCALENDAR
VERSION:2.0
PRODID:-//The Sumaira Foundation - ECPv6.15.17.1//NONSGML v1.0//EN
CALSCALE:GREGORIAN
METHOD:PUBLISH
X-WR-CALNAME:The Sumaira Foundation
X-ORIGINAL-URL:https://www.sumairafoundation.org
X-WR-CALDESC:Events for The Sumaira Foundation
REFRESH-INTERVAL;VALUE=DURATION:PT1H
X-Robots-Tag:noindex
X-PUBLISHED-TTL:PT1H
BEGIN:VTIMEZONE
TZID:America/New_York
BEGIN:DAYLIGHT
TZOFFSETFROM:-0500
TZOFFSETTO:-0400
TZNAME:EDT
DTSTART:20220313T070000
END:DAYLIGHT
BEGIN:STANDARD
TZOFFSETFROM:-0400
TZOFFSETTO:-0500
TZNAME:EST
DTSTART:20221106T060000
END:STANDARD
BEGIN:DAYLIGHT
TZOFFSETFROM:-0500
TZOFFSETTO:-0400
TZNAME:EDT
DTSTART:20230312T070000
END:DAYLIGHT
BEGIN:STANDARD
TZOFFSETFROM:-0400
TZOFFSETTO:-0500
TZNAME:EST
DTSTART:20231105T060000
END:STANDARD
BEGIN:DAYLIGHT
TZOFFSETFROM:-0500
TZOFFSETTO:-0400
TZNAME:EDT
DTSTART:20240310T070000
END:DAYLIGHT
BEGIN:STANDARD
TZOFFSETFROM:-0400
TZOFFSETTO:-0500
TZNAME:EST
DTSTART:20241103T060000
END:STANDARD
END:VTIMEZONE
BEGIN:VEVENT
DTSTART;VALUE=DATE:20230329
DTEND;VALUE=DATE:20230330
DTSTAMP:20260419T213732
CREATED:20230131T173430Z
LAST-MODIFIED:20230327T143330Z
UID:12556-1680048000-1680134399@www.sumairafoundation.org
SUMMARY:2023 Virtual Legislative Lobby Day
DESCRIPTION:Join autoimmune patient advocates nationwide on March 29\, 2023\, for the National Coalition of Autoimmune Patient Groups’ first virtual Congressional Fly-in Day. Advocates will meet virtually with legislators and staff to discuss important issues\, including improving patient access and research funding. Whether you’re a veteran advocate or looking to get involved in legislative advocacy for the first time\, this is an incredible opportunity to make a difference for the autoimmune patient community. \nWe will be calling upon Congress to establish an Office of Autoimmunity within the Office of the Director of the National Institutes of Health. Read the letter we sent to the Senate and House Appropriations Committee encouraging them to include this in the FY2023 Appropriations bill. \nFrequently Asked Questions\nWhat is a Lobby Day? \nA fly-in or lobby day is when constituents from across the country come together to advocate to their congressional lawmakers on behalf of a common cause or interest. \nWho should participate?\nAutoimmune patients\, care partners\, family and friends\, health care professionals\, medical and scientific professionals\, and anyone with an interest in and passion for changing the future of autoimmune disease is encouraged to participate and become an advocate. \nIs there a cost to participate? \nThere is no cost to participate. \nHow will we meet with legislators and staff? \nAll virtual meetings will be conducted via Zoom or another video conference platform. \nDo I need previous advocacy experience? \nDefinitely not! We will provide training and talking points. \nHow can I prepare? \nPrior to the event\, we will hold a training session with participants. The training session will help advocates better understand how to speak to elected leaders to get their point across and will use role-playing to demonstrate. Remember: a convincing and compelling case will gain more traction than a shouting match any day. \nWe will also provide talking points and key messages as guidance. \n 
URL:https://www.sumairafoundation.org/event/2023-virtual-legislative-lobby-day/
LOCATION:Virtual: United States\, United States
CATEGORIES:Partner Events
ATTACH;FMTTYPE=image/jpeg:https://www.sumairafoundation.org/wp-content/uploads/2022/07/autoimmune-association-logo-small-square-1-e1657117688685.jpg
ORGANIZER;CN="Autoimmune Association":MAILTO:hello@autoimmune.org
END:VEVENT
END:VCALENDAR