BEGIN:VCALENDAR
VERSION:2.0
PRODID:-//The Sumaira Foundation - ECPv6.15.17.1//NONSGML v1.0//EN
CALSCALE:GREGORIAN
METHOD:PUBLISH
X-WR-CALNAME:The Sumaira Foundation
X-ORIGINAL-URL:https://www.sumairafoundation.org
X-WR-CALDESC:Events for The Sumaira Foundation
REFRESH-INTERVAL;VALUE=DURATION:PT1H
X-Robots-Tag:noindex
X-PUBLISHED-TTL:PT1H
BEGIN:VTIMEZONE
TZID:America/New_York
BEGIN:DAYLIGHT
TZOFFSETFROM:-0500
TZOFFSETTO:-0400
TZNAME:EDT
DTSTART:20220313T070000
END:DAYLIGHT
BEGIN:STANDARD
TZOFFSETFROM:-0400
TZOFFSETTO:-0500
TZNAME:EST
DTSTART:20221106T060000
END:STANDARD
BEGIN:DAYLIGHT
TZOFFSETFROM:-0500
TZOFFSETTO:-0400
TZNAME:EDT
DTSTART:20230312T070000
END:DAYLIGHT
BEGIN:STANDARD
TZOFFSETFROM:-0400
TZOFFSETTO:-0500
TZNAME:EST
DTSTART:20231105T060000
END:STANDARD
BEGIN:DAYLIGHT
TZOFFSETFROM:-0500
TZOFFSETTO:-0400
TZNAME:EDT
DTSTART:20240310T070000
END:DAYLIGHT
BEGIN:STANDARD
TZOFFSETFROM:-0400
TZOFFSETTO:-0500
TZNAME:EST
DTSTART:20241103T060000
END:STANDARD
END:VTIMEZONE
BEGIN:VEVENT
DTSTART;VALUE=DATE:20230501
DTEND;VALUE=DATE:20230504
DTSTAMP:20260419T122656
CREATED:20230131T192742Z
LAST-MODIFIED:20230131T192742Z
UID:12565-1682899200-1683158399@www.sumairafoundation.org
SUMMARY:Rare Drug Development Symposium 2023: Collaborate: Go Farther\, Together
DESCRIPTION:Join us May 1-3\, 2023 in Philadelphia\, Pennsylvania for the RARE Drug Development Symposium 2023 \n\n\nCollaboration is the foundation of success in rare disease research.  Knowing who to work with\, what strategies to use\, and how to prepare for discussions can help you overcome barriers posed by small populations and limited funding.\n\nAt the Rare Drug Development Symposium (RDDS) 2023\, a partnership between Global Genes and the Orphan Disease Center of the University of Pennsylvania\, you’ll connect to  rare disease advocacy leaders\, researchers\, clinicians\, industry professionals and policy developers who will share their experience and provide you with models to help your community push forward. This 2-day\, in-person only event includes dynamic presentations\, followed by workshops and expert office hours that will enable you to:\nCreate A Comprehensive Research Strategy\nUnderstand the end-to-end process of drug discovery and development for rare disease and participate in a workshop where you’ll analyze your community’s potential and needs. \nLeverage the Power of Data\nWhat makes data valid and reliable? Once you have invested in a registry\, what partnership models can  help you move the needle toward translational research? \nUse AI for Drug Discovery and Repurposing\nFind out how artificial intelligence is being used to transform an often complex\, decades-long-mission into a more efficient process\, reducing the timeline and cost to bring therapies to patients. \nUnderstand Regulatory Considerations\nWhether your organization is local or global\, regulatory guidelines must be taken into account at each step. Learn how to navigate the requirements through case studies and expert advice. \nWho should attend: \n\nPatient Advocacy Group leaders\nPatients\nMembers of the rare disease community who want to learn more about the drug development process\, the unique ways this applies to the development of therapeutics for rare diseases\, and how they can engage with the process\nClinicians and researchers focused on rare disease therapeutic targets\n\nView 2022 Highlights \nTo learn more about the 2022 Symposium\, read the summary report here. We look forward to seeing you at the 2023 Symposium. \nA Year-Long Initiative in Rare Drug Development\nIn addition to activities surrounding the RARE Drug Development Symposium in June\, Global Genes is providing educational resources to help advocates and organizations become better equipped to work with researchers and industry partners throughout the drug development process. This includes: \n \nRare Research Roadmap: This toolkit was designed to help advocates\, individuals\, families\, and organizations better understand some of the potential routes to treatment and some of the key concepts that are part of these processes to work with researchers and industry partners throughout the drug development process. \n\n\n\nDownload Your Copy Of The Rare Research Roadmap And Toolkit\n\nWatch webinars and videos of experts that happened before and after the 2022 RARE Drug Development Symposium. \n\n2022 Webinar 1\n\n\n2022 Webinar 2\n\n\n2022 Webinar 3\n\n\nRDDS 2022: Value Of Collaboration\n\n\nRDDS 2022: Challenges For Rare Disease
URL:https://www.sumairafoundation.org/event/rare-drug-development-symposium-2023-collaborate-go-farther-together/
LOCATION:Sheraton Downtown\, 201 N 17th St\, Philadelphia\, PA\, 19103\, United States
CATEGORIES:Partner Events
ATTACH;FMTTYPE=image/png:https://www.sumairafoundation.org/wp-content/uploads/2023/01/Global-Advocacy-Alliance-600px-1.png
END:VEVENT
END:VCALENDAR