BEGIN:VCALENDAR
VERSION:2.0
PRODID:-//The Sumaira Foundation - ECPv6.15.17.1//NONSGML v1.0//EN
CALSCALE:GREGORIAN
METHOD:PUBLISH
X-ORIGINAL-URL:https://www.sumairafoundation.org
X-WR-CALDESC:Events for The Sumaira Foundation
REFRESH-INTERVAL;VALUE=DURATION:PT1H
X-Robots-Tag:noindex
X-PUBLISHED-TTL:PT1H
BEGIN:VTIMEZONE
TZID:America/New_York
BEGIN:DAYLIGHT
TZOFFSETFROM:-0500
TZOFFSETTO:-0400
TZNAME:EDT
DTSTART:20250309T070000
END:DAYLIGHT
BEGIN:STANDARD
TZOFFSETFROM:-0400
TZOFFSETTO:-0500
TZNAME:EST
DTSTART:20251102T060000
END:STANDARD
BEGIN:DAYLIGHT
TZOFFSETFROM:-0500
TZOFFSETTO:-0400
TZNAME:EDT
DTSTART:20260308T070000
END:DAYLIGHT
BEGIN:STANDARD
TZOFFSETFROM:-0400
TZOFFSETTO:-0500
TZNAME:EST
DTSTART:20261101T060000
END:STANDARD
BEGIN:DAYLIGHT
TZOFFSETFROM:-0500
TZOFFSETTO:-0400
TZNAME:EDT
DTSTART:20270314T070000
END:DAYLIGHT
BEGIN:STANDARD
TZOFFSETFROM:-0400
TZOFFSETTO:-0500
TZNAME:EST
DTSTART:20271107T060000
END:STANDARD
END:VTIMEZONE
BEGIN:VEVENT
DTSTART;TZID=America/New_York:20260124T100000
DTEND;TZID=America/New_York:20260124T170000
DTSTAMP:20260425T215128
CREATED:20251218T173459Z
LAST-MODIFIED:20260108T173335Z
UID:20879-1769248800-1769274000@www.sumairafoundation.org
SUMMARY:Día del Paciente para Trastornos Neuroinflamatorios Raros - Puerto Rico
DESCRIPTION:¡TSF llega a Puerto Rico el sábado 24 de enero 2026! \nInvitamos a pacientes\, cuidadores\, médicos\, enfermeros\, investigadores y defensores de los pacientes a unirse a nosotros en un día especial dedicado a los trastornos neuroinflamatorios raros. Si usted o un ser querido se ven afectados por alguno de los trastornos que se enumeran a continuación: \n¡Esperamos verlos allí! \n\nEncefalitis autoinmune (EA)\nMOGAD\nNeurosarcoidosis\nNMOSD\nSíndrome de la persona rígida\n\nÚnase a nosotros para un día de aprendizaje\, comunidad y diversión: \n\nPodran conocer a pacientes\, cuidadores y profesionales de la salud de todo Puerto Rico.\nHaga preguntas a expertos en tiempo real sobre el manejo de los síntomas\, tratamientos y terapias\, comorbilidades y mucho más.\nInfórmese sobre las últimas investigaciones y descubrimientos de la mano de expertos.\n\nEste evento se organiza en colaboración con el Dr. José Ávila y la Dra. Patricia De Jesús del Centro de Esclerosis Múltiple de Puerto Rico. La inscripción es gratuita y se servirá almuerzo. \n¡Tenemos muchas ganas de verlos en Puerto Rico! \nLa Fundación Sumaira
URL:https://www.sumairafoundation.org/event/dia-del-paciente-para-trastornos-neuroinflamatorios-raros-puerto-rico/
LOCATION:Hyatt Centric San Juan – Isla Verde\, 8020 José M. Tartak Ave\, Carolina\, Puerto Rico\, 00979\, United States Minor Outlying Islands
CATEGORIES:Community Event,TSF Patient Day
ATTACH;FMTTYPE=image/png:https://www.sumairafoundation.org/wp-content/uploads/2025/12/Puerto-Rico-Patient-Day-2026-1.png
END:VEVENT
END:VCALENDAR