BEGIN:VCALENDAR
VERSION:2.0
PRODID:-//The Sumaira Foundation - ECPv6.15.17.1//NONSGML v1.0//EN
CALSCALE:GREGORIAN
METHOD:PUBLISH
X-WR-CALNAME:The Sumaira Foundation
X-ORIGINAL-URL:https://www.sumairafoundation.org
X-WR-CALDESC:Events for The Sumaira Foundation
REFRESH-INTERVAL;VALUE=DURATION:PT1H
X-Robots-Tag:noindex
X-PUBLISHED-TTL:PT1H
BEGIN:VTIMEZONE
TZID:America/New_York
BEGIN:DAYLIGHT
TZOFFSETFROM:-0500
TZOFFSETTO:-0400
TZNAME:EDT
DTSTART:20230312T070000
END:DAYLIGHT
BEGIN:STANDARD
TZOFFSETFROM:-0400
TZOFFSETTO:-0500
TZNAME:EST
DTSTART:20231105T060000
END:STANDARD
BEGIN:DAYLIGHT
TZOFFSETFROM:-0500
TZOFFSETTO:-0400
TZNAME:EDT
DTSTART:20240310T070000
END:DAYLIGHT
BEGIN:STANDARD
TZOFFSETFROM:-0400
TZOFFSETTO:-0500
TZNAME:EST
DTSTART:20241103T060000
END:STANDARD
BEGIN:DAYLIGHT
TZOFFSETFROM:-0500
TZOFFSETTO:-0400
TZNAME:EDT
DTSTART:20250309T070000
END:DAYLIGHT
BEGIN:STANDARD
TZOFFSETFROM:-0400
TZOFFSETTO:-0500
TZNAME:EST
DTSTART:20251102T060000
END:STANDARD
END:VTIMEZONE
BEGIN:VEVENT
DTSTART;TZID=America/New_York:20241005T110000
DTEND;TZID=America/New_York:20241005T170000
DTSTAMP:20260425T145321
CREATED:20241003T145652Z
LAST-MODIFIED:20241003T145652Z
UID:17873-1728126000-1728147600@www.sumairafoundation.org
SUMMARY:TSF's Miami Patient Day for NMOSD & MOGAD
DESCRIPTION:TSF is coming to Miami! \n\nAre you an NMOSD/MOGAD patient\, caregiver\, clinician\, nurse\, researcher and/or advocate in Florida? You’re invited to our event on Saturday\, October 5th at 11 AM at Margaritaville Hollywood Beach Resort. \n  \nJoin us for a day of education\, community\, and fun to: \n\nMeet local NMOSD & MOGAD patients\, caregivers and clinicians\nAsk experts questions in real time about symptom management\, treatments and therapies\, co-morbidities and more\nLearn about updates on the latest research and findings from local key opinion leaders\nPLUS! We’ll have an educational and interactive session in Spanish led by local experts.\n\n  \nThis in-person event is free and lunch will be served. We can’t wait to see you in Miami! \nThe Sumaira Foundation team
URL:https://www.sumairafoundation.org/event/tsfs-miami-patient-day-for-nmosd-mogad/
LOCATION:Margaritaville Hollywood Beach Resort\, 1111 N Ocean Dr\, Hollywood\, 33019\, United States
CATEGORIES:Community Event,TSF Patient Day
ATTACH;FMTTYPE=image/jpeg:https://www.sumairafoundation.org/wp-content/uploads/2024/10/457129813_495847449743087_1970028794632479223_n.jpg
END:VEVENT
END:VCALENDAR