BEGIN:VCALENDAR
VERSION:2.0
PRODID:-//The Sumaira Foundation - ECPv6.15.17.1//NONSGML v1.0//EN
CALSCALE:GREGORIAN
METHOD:PUBLISH
X-WR-CALNAME:The Sumaira Foundation
X-ORIGINAL-URL:https://www.sumairafoundation.org
X-WR-CALDESC:Events for The Sumaira Foundation
REFRESH-INTERVAL;VALUE=DURATION:PT1H
X-Robots-Tag:noindex
X-PUBLISHED-TTL:PT1H
BEGIN:VTIMEZONE
TZID:Europe/Paris
BEGIN:DAYLIGHT
TZOFFSETFROM:+0100
TZOFFSETTO:+0200
TZNAME:CEST
DTSTART:20230326T010000
END:DAYLIGHT
BEGIN:STANDARD
TZOFFSETFROM:+0200
TZOFFSETTO:+0100
TZNAME:CET
DTSTART:20231029T010000
END:STANDARD
BEGIN:DAYLIGHT
TZOFFSETFROM:+0100
TZOFFSETTO:+0200
TZNAME:CEST
DTSTART:20240331T010000
END:DAYLIGHT
BEGIN:STANDARD
TZOFFSETFROM:+0200
TZOFFSETTO:+0100
TZNAME:CET
DTSTART:20241027T010000
END:STANDARD
BEGIN:DAYLIGHT
TZOFFSETFROM:+0100
TZOFFSETTO:+0200
TZNAME:CEST
DTSTART:20250330T010000
END:DAYLIGHT
BEGIN:STANDARD
TZOFFSETFROM:+0200
TZOFFSETTO:+0100
TZNAME:CET
DTSTART:20251026T010000
END:STANDARD
END:VTIMEZONE
BEGIN:VEVENT
DTSTART;TZID=Europe/Paris:20241123T130000
DTEND;TZID=Europe/Paris:20241124T120000
DTSTAMP:20260425T213428
CREATED:20241031T143425Z
LAST-MODIFIED:20241031T143425Z
UID:18265-1732366800-1732449600@www.sumairafoundation.org
SUMMARY:Le 2ème week-end des patients et aidants de la NMOSD & de la MOGAD - Paris
DESCRIPTION:Suite au succès de notre 1ère Journée Patients NMOSD & MOGAD\, nous renouvelons l’évènement les 23 et 24 novembre à Paris ! \nVenez rencontrer des experts\, suivre nos ateliers\, rencontrer les différents acteurs de la NMOSD et la MOGAD. \nVenez mettre en lumière la NMOSD et la MOGAD avec Sumaira et TSF France. \nÀ bientôt! \nL’équipe TSF France (Anass\, Bérengère\, Elodie\, Emma\, Fatiha\, Nelly et Selma)
URL:https://www.sumairafoundation.org/event/le-2eme-week-end-des-patients-et-aidants-de-la-nmosd-de-la-mogad-paris/
LOCATION:FIAP Paris\, 30 Rue Cabanis\, Paris\, 75014\, France
CATEGORIES:Community Event,Patient Days
ATTACH;FMTTYPE=image/png:https://www.sumairafoundation.org/wp-content/uploads/2024/10/2nd-Paris-Patient-Day-Eventbrite.png
END:VEVENT
END:VCALENDAR