BEGIN:VCALENDAR
VERSION:2.0
PRODID:-//The Sumaira Foundation - ECPv6.15.17.1//NONSGML v1.0//EN
CALSCALE:GREGORIAN
METHOD:PUBLISH
X-ORIGINAL-URL:https://www.sumairafoundation.org
X-WR-CALDESC:Events for The Sumaira Foundation
REFRESH-INTERVAL;VALUE=DURATION:PT1H
X-Robots-Tag:noindex
X-PUBLISHED-TTL:PT1H
BEGIN:VTIMEZONE
TZID:America/New_York
BEGIN:DAYLIGHT
TZOFFSETFROM:-0500
TZOFFSETTO:-0400
TZNAME:EDT
DTSTART:20230312T070000
END:DAYLIGHT
BEGIN:STANDARD
TZOFFSETFROM:-0400
TZOFFSETTO:-0500
TZNAME:EST
DTSTART:20231105T060000
END:STANDARD
BEGIN:DAYLIGHT
TZOFFSETFROM:-0500
TZOFFSETTO:-0400
TZNAME:EDT
DTSTART:20240310T070000
END:DAYLIGHT
BEGIN:STANDARD
TZOFFSETFROM:-0400
TZOFFSETTO:-0500
TZNAME:EST
DTSTART:20241103T060000
END:STANDARD
BEGIN:DAYLIGHT
TZOFFSETFROM:-0500
TZOFFSETTO:-0400
TZNAME:EDT
DTSTART:20250309T070000
END:DAYLIGHT
BEGIN:STANDARD
TZOFFSETFROM:-0400
TZOFFSETTO:-0500
TZNAME:EST
DTSTART:20251102T060000
END:STANDARD
END:VTIMEZONE
BEGIN:VEVENT
DTSTART;TZID=America/New_York:20240615T110000
DTEND;TZID=America/New_York:20240615T170000
DTSTAMP:20260425T114408
CREATED:20240416T171719Z
LAST-MODIFIED:20240416T171719Z
UID:16747-1718449200-1718470800@www.sumairafoundation.org
SUMMARY:TSF's Cleveland Patient Day for NMOSD & MOGAD
DESCRIPTION:Are you an NMOSD/MOGAD patient\, caregiver\, clinician\, nurse\, researcher and/or advocate in or around Ohio? You’re invited to our special day! \nIn collaboration with Dr. Amy Kunchok\, Dr. Mary Rensel and Dr. Justin Abbatemarco at the Cleveland Clinic\, The Sumaira Foundation is pleased to invite you to TSF’s Cleveland Patient Day\, a special day dedicated to NMOSD & MOGAD patients\, caregivers\, clinicians and researchers. \nJoin us for a day of education\, community\, and fun where you’ll: \n\nMeet local NMOSD & MOGAD patients\, caregivers and clinicians\nAsk experts questions in real time about symptom management\, treatments and therapies\, co-morbidities and more\n\n\nLearn about updates on the latest research and findings from local key opinion leaders\n\nThis is a free event and lunch will be served. \nWe’re excited to see you in Cleveland! \nThe Sumaira Foundation team
URL:https://www.sumairafoundation.org/event/tsfs-cleveland-patient-day-for-nmosd-mogad/
LOCATION:Cleveland Clinic Administrative Campus Building 4\, 3175 Science Park Drive\, Beachwood\, 44122\, United States
CATEGORIES:Community Event,TSF Patient Day
ATTACH;FMTTYPE=image/jpeg:https://www.sumairafoundation.org/wp-content/uploads/2024/04/https-cdn.evbuc_.com-images-744867119-132744545551-1-original.20240416-153900.jpeg
END:VEVENT
END:VCALENDAR